BEGIN:VCALENDAR
VERSION:2.0
PRODID:-//Wolf Connection - ECPv6.15.20//NONSGML v1.0//EN
CALSCALE:GREGORIAN
METHOD:PUBLISH
X-WR-CALNAME:Wolf Connection
X-ORIGINAL-URL:https://wolfconnection.org
X-WR-CALDESC:Events for Wolf Connection
REFRESH-INTERVAL;VALUE=DURATION:PT1H
X-Robots-Tag:noindex
X-PUBLISHED-TTL:PT1H
BEGIN:VTIMEZONE
TZID:UTC
BEGIN:STANDARD
TZOFFSETFROM:+0000
TZOFFSETTO:+0000
TZNAME:UTC
DTSTART:20250101T000000
END:STANDARD
END:VTIMEZONE
BEGIN:VEVENT
DTSTART;TZID=UTC:20260523T103000
DTEND;TZID=UTC:20260523T130000
DTSTAMP:20260420T025214
CREATED:20251022T192817Z
LAST-MODIFIED:20251022T192817Z
UID:13259-1779532200-1779541200@wolfconnection.org
SUMMARY:Enchanted Wolf Encounters
DESCRIPTION:
URL:https://wolfconnection.org/enchanted-wolf-encounters/
CATEGORIES:Enchanted Wolf Encounters
ATTACH;FMTTYPE=image/jpeg:https://wolfconnection.org/wp-content/uploads/2024/08/Enchanted-Wolf-Encounters-1.jpg
END:VEVENT
END:VCALENDAR